BEGIN:VCALENDAR
VERSION:2.0
PRODID:-//www.christchildomaha.com//NONSGML kigkonsult.se iCalcreator 2.30.
 10//
CALSCALE:GREGORIAN
METHOD:PUBLISH
UID:b7f96277-b0b9-4d33-b23d-740d434c2aa6
X-WR-CALDESC:
X-WR-RELCALID:83742803738a71839988368ea9a9d25c
X-WR-TIMEZONE:America/Chicago
BEGIN:VTIMEZONE
TZID:America/Chicago
BEGIN:STANDARD
TZNAME:CST
DTSTART:20211107T020000
TZOFFSETFROM:-0500
TZOFFSETTO:-0600
RDATE:20221106T020000
RDATE:20231105T020000
END:STANDARD
BEGIN:DAYLIGHT
TZNAME:CDT
DTSTART:20220313T020000
TZOFFSETFROM:-0600
TZOFFSETTO:-0500
RDATE:20230312T020000
END:DAYLIGHT
END:VTIMEZONE
BEGIN:VEVENT
UID:49710264-9530-43a6-835e-1a9537346809
DTSTAMP:20260424T222542Z
DESCRIPTION:
DTSTART;TZID=America/Chicago:20220608T130000
DTEND;TZID=America/Chicago:20220608T150000
LOCATION:
SUMMARY:L'Esprit Meeting
END:VEVENT
END:VCALENDAR
