BEGIN:VCALENDAR
VERSION:2.0
PRODID:-//www.christchildomaha.com//NONSGML kigkonsult.se iCalcreator 2.30.
 10//
CALSCALE:GREGORIAN
METHOD:PUBLISH
UID:39413c99-d7c8-4c82-ad06-683c656b9031
X-WR-CALDESC:
X-WR-RELCALID:dbad5ff2e414258b0d6e6be11d15ac45
X-WR-TIMEZONE:America/Chicago
BEGIN:VTIMEZONE
TZID:America/Chicago
BEGIN:STANDARD
TZNAME:CST
DTSTART:20211107T020000
TZOFFSETFROM:-0500
TZOFFSETTO:-0600
RDATE:20221106T020000
RDATE:20231105T020000
END:STANDARD
BEGIN:DAYLIGHT
TZNAME:CDT
DTSTART:20220313T020000
TZOFFSETFROM:-0600
TZOFFSETTO:-0500
RDATE:20230312T020000
END:DAYLIGHT
END:VTIMEZONE
BEGIN:VEVENT
UID:6fe8b1da-5142-442b-9488-63972135d107
DTSTAMP:20260424T183113Z
DESCRIPTION:
DTSTART;TZID=America/Chicago:20220818T113000
DTEND;TZID=America/Chicago:20220818T130000
LOCATION:Eileen Ryan Christ Child Center
SUMMARY:Board of Directors Meeting
END:VEVENT
END:VCALENDAR
