BEGIN:VCALENDAR
VERSION:2.0
PRODID:-//www.christchildomaha.com//NONSGML kigkonsult.se iCalcreator 2.30.
 10//
CALSCALE:GREGORIAN
METHOD:PUBLISH
UID:39d7dd7f-bb27-454e-b3af-b94dc426315b
X-WR-CALDESC:
X-WR-RELCALID:31cdbcc7d5a27bcd989d77bcb2f52898
X-WR-TIMEZONE:America/Chicago
BEGIN:VTIMEZONE
TZID:America/Chicago
BEGIN:STANDARD
TZNAME:CST
DTSTART:20211107T020000
TZOFFSETFROM:-0500
TZOFFSETTO:-0600
RDATE:20221106T020000
RDATE:20231105T020000
END:STANDARD
BEGIN:DAYLIGHT
TZNAME:CDT
DTSTART:20220313T020000
TZOFFSETFROM:-0600
TZOFFSETTO:-0500
RDATE:20230312T020000
RDATE:20240310T020000
END:DAYLIGHT
END:VTIMEZONE
BEGIN:VEVENT
UID:e8d032cf-34b5-4703-ae55-8988b48667c1
DTSTAMP:20260424T163630Z
DESCRIPTION:
DTSTART;TZID=America/Chicago:20220915T113000
DTEND;TZID=America/Chicago:20220915T130000
LOCATION:Eileen Ryan Christ Child Center
SUMMARY:Board of Directors Meeting
END:VEVENT
END:VCALENDAR
