BEGIN:VCALENDAR
VERSION:2.0
PRODID:-//www.christchildomaha.com//NONSGML kigkonsult.se iCalcreator 2.30.
 10//
CALSCALE:GREGORIAN
METHOD:PUBLISH
UID:cca6d12d-7a6e-49ba-9c7a-ad92e86b8a7e
X-WR-CALDESC:
X-WR-RELCALID:c3ab92680d060012c55050046b7b121b
X-WR-TIMEZONE:America/Chicago
BEGIN:VTIMEZONE
TZID:America/Chicago
BEGIN:STANDARD
TZNAME:CST
DTSTART:20211107T020000
TZOFFSETFROM:-0500
TZOFFSETTO:-0600
RDATE:20221106T020000
RDATE:20231105T020000
END:STANDARD
BEGIN:DAYLIGHT
TZNAME:CDT
DTSTART:20220313T020000
TZOFFSETFROM:-0600
TZOFFSETTO:-0500
RDATE:20230312T020000
RDATE:20240310T020000
END:DAYLIGHT
END:VTIMEZONE
BEGIN:VEVENT
UID:1ae8df0c-11fc-4155-b80e-359bd058c71d
DTSTAMP:20260424T163211Z
DESCRIPTION:
DTSTART;TZID=America/Chicago:20220921T180000
DTEND;TZID=America/Chicago:20220921T200000
LOCATION:Eileen Ryan Christ Child Center
SUMMARY:Volunteer Event - Unpacking Layette Supplies
END:VEVENT
END:VCALENDAR
