BEGIN:VCALENDAR
VERSION:2.0
PRODID:-//www.christchildomaha.com//NONSGML kigkonsult.se iCalcreator 2.30.
 10//
CALSCALE:GREGORIAN
METHOD:PUBLISH
UID:d0ac7495-57f7-4403-b3b9-622077530f88
X-WR-CALDESC:
X-WR-RELCALID:35dfa8a0f5f3dc5186d98d378fa8eefb
X-WR-TIMEZONE:America/Chicago
BEGIN:VTIMEZONE
TZID:America/Chicago
BEGIN:STANDARD
TZNAME:CST
DTSTART:20211107T020000
TZOFFSETFROM:-0500
TZOFFSETTO:-0600
RDATE:20221106T020000
RDATE:20231105T020000
END:STANDARD
BEGIN:DAYLIGHT
TZNAME:CDT
DTSTART:20220313T020000
TZOFFSETFROM:-0600
TZOFFSETTO:-0500
RDATE:20230312T020000
RDATE:20240310T020000
END:DAYLIGHT
END:VTIMEZONE
BEGIN:VEVENT
UID:27417704-57ab-4f5d-a835-5b551c15bfb2
DTSTAMP:20260424T145139Z
DESCRIPTION:
DTSTART;TZID=America/Chicago:20221012T100000
DTEND;TZID=America/Chicago:20221012T130000
LOCATION:Duchesne High School - Performing Arts Center
SUMMARY:Layette Assembly - Duchesne
END:VEVENT
END:VCALENDAR
