BEGIN:VCALENDAR
VERSION:2.0
PRODID:-//www.christchildomaha.com//NONSGML kigkonsult.se iCalcreator 2.30.
 10//
CALSCALE:GREGORIAN
METHOD:PUBLISH
UID:f4a89850-42e8-4106-9adb-b3fc8884da66
X-WR-CALDESC:
X-WR-RELCALID:59d21bf900a4eca24374fff9ddfbec96
X-WR-TIMEZONE:America/Chicago
BEGIN:VTIMEZONE
TZID:America/Chicago
BEGIN:STANDARD
TZNAME:CST
DTSTART:20211107T020000
TZOFFSETFROM:-0500
TZOFFSETTO:-0600
RDATE:20221106T020000
RDATE:20231105T020000
END:STANDARD
BEGIN:DAYLIGHT
TZNAME:CDT
DTSTART:20220313T020000
TZOFFSETFROM:-0600
TZOFFSETTO:-0500
RDATE:20230312T020000
RDATE:20240310T020000
END:DAYLIGHT
END:VTIMEZONE
BEGIN:VEVENT
UID:7e2e782c-e6ab-427e-b966-f25be204aab8
DTSTAMP:20260424T144846Z
DESCRIPTION:
DTSTART;TZID=America/Chicago:20221020T113000
DTEND;TZID=America/Chicago:20221020T130000
LOCATION:Eileen Ryan Christ Child Center
SUMMARY:Board of Directors Meeting
END:VEVENT
END:VCALENDAR
