BEGIN:VCALENDAR
VERSION:2.0
PRODID:-//www.christchildomaha.com//NONSGML kigkonsult.se iCalcreator 2.30.
 10//
CALSCALE:GREGORIAN
METHOD:PUBLISH
UID:96bfa1a6-2bb9-41db-9870-17c764d3c436
X-WR-CALDESC:
X-WR-RELCALID:0c657a6bacf14c75031061473934abe1
X-WR-TIMEZONE:America/Chicago
BEGIN:VTIMEZONE
TZID:America/Chicago
BEGIN:STANDARD
TZNAME:CST
DTSTART:20221106T020000
TZOFFSETFROM:-0500
TZOFFSETTO:-0600
RDATE:20231105T020000
END:STANDARD
BEGIN:DAYLIGHT
TZNAME:CDT
DTSTART:20220313T020000
TZOFFSETFROM:-0600
TZOFFSETTO:-0500
RDATE:20230312T020000
RDATE:20240310T020000
END:DAYLIGHT
END:VTIMEZONE
BEGIN:VEVENT
UID:b1093ebc-6c35-4fe6-8e64-bace645586c3
DTSTAMP:20260424T123123Z
DESCRIPTION:
DTSTART;TZID=America/Chicago:20221129T173000
DTEND;TZID=America/Chicago:20221129T200000
LOCATION:St. Patrick's Church\, 20500 W Maple Rd\, Elkhorn\, NE 68022 US
SUMMARY:Annual Memorial Mass & Meeting
END:VEVENT
END:VCALENDAR
