BEGIN:VCALENDAR
VERSION:2.0
PRODID:-//www.christchildomaha.com//NONSGML kigkonsult.se iCalcreator 2.30.
 10//
CALSCALE:GREGORIAN
METHOD:PUBLISH
UID:e03a6eb7-65ad-40ca-97a1-52d2dfe8d9f2
X-WR-CALDESC:
X-WR-RELCALID:10c8e3aea0e300262072ccc01747610c
X-WR-TIMEZONE:America/Chicago
BEGIN:VTIMEZONE
TZID:America/Chicago
BEGIN:STANDARD
TZNAME:CST
DTSTART:20221106T020000
TZOFFSETFROM:-0500
TZOFFSETTO:-0600
RDATE:20231105T020000
END:STANDARD
BEGIN:DAYLIGHT
TZNAME:CDT
DTSTART:20220313T020000
TZOFFSETFROM:-0600
TZOFFSETTO:-0500
RDATE:20230312T020000
RDATE:20240310T020000
END:DAYLIGHT
END:VTIMEZONE
BEGIN:VEVENT
UID:af044067-d689-4d07-8bd4-104e03194e43
DTSTAMP:20260424T075246Z
DESCRIPTION:
DTSTART;TZID=America/Chicago:20230208T103000
DTEND;TZID=America/Chicago:20230208T123000
LOCATION:Christ Child Center
SUMMARY:Ses Enfants Mtg.
END:VEVENT
END:VCALENDAR
