BEGIN:VCALENDAR
VERSION:2.0
PRODID:-//www.christchildomaha.com//NONSGML kigkonsult.se iCalcreator 2.30.
 10//
CALSCALE:GREGORIAN
METHOD:PUBLISH
UID:816ab4e6-b1ae-41f4-a586-0c93d902a2cd
X-WR-CALDESC:
X-WR-RELCALID:b0cb618ef88b2a860200c825963660e3
X-WR-TIMEZONE:America/Chicago
BEGIN:VTIMEZONE
TZID:America/Chicago
BEGIN:STANDARD
TZNAME:CST
DTSTART:20221106T020000
TZOFFSETFROM:-0500
TZOFFSETTO:-0600
RDATE:20231105T020000
END:STANDARD
BEGIN:DAYLIGHT
TZNAME:CDT
DTSTART:20220313T020000
TZOFFSETFROM:-0600
TZOFFSETTO:-0500
RDATE:20230312T020000
RDATE:20240310T020000
END:DAYLIGHT
END:VTIMEZONE
BEGIN:VEVENT
UID:f72e2bb6-98b0-4446-b63c-62fd973547fd
DTSTAMP:20260424T071519Z
DESCRIPTION:
DTSTART;TZID=America/Chicago:20230209T190000
DTEND;TZID=America/Chicago:20230209T210000
LOCATION:Christ Child Center
SUMMARY:Les Anges Aux. Meeting
END:VEVENT
END:VCALENDAR
