BEGIN:VCALENDAR
VERSION:2.0
PRODID:-//www.christchildomaha.com//NONSGML kigkonsult.se iCalcreator 2.30.
 10//
CALSCALE:GREGORIAN
METHOD:PUBLISH
UID:850306aa-1fe3-4672-95d2-2b8d62a4ec38
X-WR-CALDESC:In lieu of this month's Board Meeting\, CCSO board members are
  encouraged to participate in the assembly at Skutt High School
X-WR-RELCALID:d691851c5ee3b0148c9394259d406d8d
X-WR-TIMEZONE:America/Chicago
BEGIN:VTIMEZONE
TZID:America/Chicago
BEGIN:STANDARD
TZNAME:CST
DTSTART:20221106T020000
TZOFFSETFROM:-0500
TZOFFSETTO:-0600
RDATE:20231105T020000
END:STANDARD
BEGIN:DAYLIGHT
TZNAME:CDT
DTSTART:20220313T020000
TZOFFSETFROM:-0600
TZOFFSETTO:-0500
RDATE:20230312T020000
RDATE:20240310T020000
END:DAYLIGHT
END:VTIMEZONE
BEGIN:VEVENT
UID:93ed0caa-8f8f-4fe6-aaac-544a1c187a17
DTSTAMP:20260424T070834Z
DESCRIPTION:In lieu of this month's Board Meeting\, CCSO board members are 
 encouraged to participate in the assembly at Skutt High School
DTSTART;TZID=America/Chicago:20230216T103000
DTEND;TZID=America/Chicago:20230216T123000
LOCATION:Skutt Catholic High School
SUMMARY:Skutt Assembly - Board Participation
END:VEVENT
END:VCALENDAR
