BEGIN:VCALENDAR
VERSION:2.0
PRODID:-//www.christchildomaha.com//NONSGML kigkonsult.se iCalcreator 2.30.
 10//
CALSCALE:GREGORIAN
METHOD:PUBLISH
UID:bb63ece8-b138-44f5-8e10-19f64ccc3579
X-WR-CALDESC:
X-WR-RELCALID:a4cfd681f8a35adb92cad99f9481f94a
X-WR-TIMEZONE:America/Chicago
BEGIN:VTIMEZONE
TZID:America/Chicago
BEGIN:STANDARD
TZNAME:CST
DTSTART:20221106T020000
TZOFFSETFROM:-0500
TZOFFSETTO:-0600
RDATE:20231105T020000
END:STANDARD
BEGIN:DAYLIGHT
TZNAME:CDT
DTSTART:20220313T020000
TZOFFSETFROM:-0600
TZOFFSETTO:-0500
RDATE:20230312T020000
RDATE:20240310T020000
END:DAYLIGHT
END:VTIMEZONE
BEGIN:VEVENT
UID:df2264d8-50e6-4d66-9603-0591c1dc21d5
DTSTAMP:20260424T042519Z
DESCRIPTION:
DTSTART;TZID=America/Chicago:20230308T090000
DTEND;TZID=America/Chicago:20230308T110000
LOCATION:Christ Child Center
SUMMARY:Ses Enfants Meet-up
END:VEVENT
END:VCALENDAR
