BEGIN:VCALENDAR
VERSION:2.0
PRODID:-//www.christchildomaha.com//NONSGML kigkonsult.se iCalcreator 2.30.
 10//
CALSCALE:GREGORIAN
METHOD:PUBLISH
UID:f3b119c4-58a0-4fee-acf1-add6ecaaa748
X-WR-CALDESC:
X-WR-RELCALID:52f53416808cb28133e0a11e3212e07c
X-WR-TIMEZONE:America/Chicago
BEGIN:VTIMEZONE
TZID:America/Chicago
BEGIN:STANDARD
TZNAME:CST
DTSTART:20221106T020000
TZOFFSETFROM:-0500
TZOFFSETTO:-0600
RDATE:20231105T020000
END:STANDARD
BEGIN:DAYLIGHT
TZNAME:CDT
DTSTART:20230312T020000
TZOFFSETFROM:-0600
TZOFFSETTO:-0500
RDATE:20240310T020000
END:DAYLIGHT
END:VTIMEZONE
BEGIN:VEVENT
UID:233d3926-4a0d-4658-978a-56631b43af69
DTSTAMP:20260424T044919Z
DESCRIPTION:
DTSTART;TZID=America/Chicago:20230314T130000
DTEND;TZID=America/Chicago:20230314T150000
LOCATION:Christ Child Center
SUMMARY:L'Esprit Auxiliary Kickoff Meeting
END:VEVENT
END:VCALENDAR
