BEGIN:VCALENDAR
VERSION:2.0
PRODID:-//www.christchildomaha.com//NONSGML kigkonsult.se iCalcreator 2.30.
 10//
CALSCALE:GREGORIAN
METHOD:PUBLISH
UID:f836cb1a-00ea-4d56-9485-8f43cd7997c3
X-WR-CALDESC:
X-WR-RELCALID:4a643b1bca5f77846d5b5a0d548d0c25
X-WR-TIMEZONE:America/Chicago
BEGIN:VTIMEZONE
TZID:America/Chicago
BEGIN:STANDARD
TZNAME:CST
DTSTART:20221106T020000
TZOFFSETFROM:-0500
TZOFFSETTO:-0600
RDATE:20231105T020000
END:STANDARD
BEGIN:DAYLIGHT
TZNAME:CDT
DTSTART:20230312T020000
TZOFFSETFROM:-0600
TZOFFSETTO:-0500
RDATE:20240310T020000
END:DAYLIGHT
END:VTIMEZONE
BEGIN:VEVENT
UID:32a858bf-97c6-4329-ad88-9c319d49bd2a
DTSTAMP:20260424T051318Z
DESCRIPTION:
DTSTART;TZID=America/Chicago:20230316T113000
DTEND;TZID=America/Chicago:20230316T130000
LOCATION:Christ Child Center
SUMMARY:Board of Directors Meeting
END:VEVENT
END:VCALENDAR
