BEGIN:VCALENDAR
VERSION:2.0
PRODID:-//www.christchildomaha.com//NONSGML kigkonsult.se iCalcreator 2.30.
 10//
CALSCALE:GREGORIAN
METHOD:PUBLISH
UID:bea9013f-2167-4e61-abcc-e942de01759f
X-WR-CALDESC:
X-WR-RELCALID:64906b90909db6aca42f36569d7ee12c
X-WR-TIMEZONE:America/Chicago
BEGIN:VTIMEZONE
TZID:America/Chicago
BEGIN:STANDARD
TZNAME:CST
DTSTART:20221106T020000
TZOFFSETFROM:-0500
TZOFFSETTO:-0600
RDATE:20231105T020000
END:STANDARD
BEGIN:DAYLIGHT
TZNAME:CDT
DTSTART:20230312T020000
TZOFFSETFROM:-0600
TZOFFSETTO:-0500
RDATE:20240310T020000
END:DAYLIGHT
END:VTIMEZONE
BEGIN:VEVENT
UID:4e8743df-d7c8-494c-ae3c-1dbba0dcd59d
DTSTAMP:20260424T044919Z
DESCRIPTION:
DTSTART;TZID=America/Chicago:20230319T130000
DTEND;TZID=America/Chicago:20230319T143000
LOCATION:Christ Child Center
SUMMARY:SMM Confirmation Group Unpacking
END:VEVENT
END:VCALENDAR
