BEGIN:VCALENDAR
VERSION:2.0
PRODID:-//www.christchildomaha.com//NONSGML kigkonsult.se iCalcreator 2.30.
 10//
CALSCALE:GREGORIAN
METHOD:PUBLISH
UID:3db3f869-3c46-4db3-adb4-4e235ce57671
X-WR-CALDESC:
X-WR-RELCALID:4ef5e0eb0c64d0c9571b4983859d3bef
X-WR-TIMEZONE:America/Chicago
BEGIN:VTIMEZONE
TZID:America/Chicago
BEGIN:STANDARD
TZNAME:CST
DTSTART:20221106T020000
TZOFFSETFROM:-0500
TZOFFSETTO:-0600
RDATE:20231105T020000
END:STANDARD
BEGIN:DAYLIGHT
TZNAME:CDT
DTSTART:20230312T020000
TZOFFSETFROM:-0600
TZOFFSETTO:-0500
RDATE:20240310T020000
END:DAYLIGHT
END:VTIMEZONE
BEGIN:VEVENT
UID:8ea737a6-6bb0-4986-a2a8-7c119dc58547
DTSTAMP:20260424T053459Z
DESCRIPTION:
DTSTART;TZID=America/Chicago:20230322T120000
DTEND;TZID=America/Chicago:20230322T150000
LOCATION:Christ Child Center
SUMMARY:Unpacking (Sign Up Genius)
END:VEVENT
END:VCALENDAR
