BEGIN:VCALENDAR
VERSION:2.0
PRODID:-//www.christchildomaha.com//NONSGML kigkonsult.se iCalcreator 2.30.
 10//
CALSCALE:GREGORIAN
METHOD:PUBLISH
UID:bda62510-050d-4e83-94bc-ca4e3ddbbc3b
X-WR-CALDESC:
X-WR-RELCALID:1de38daa67f98bd8071b02e3c3e0f906
X-WR-TIMEZONE:America/Chicago
BEGIN:VTIMEZONE
TZID:America/Chicago
BEGIN:STANDARD
TZNAME:CST
DTSTART:20221106T020000
TZOFFSETFROM:-0500
TZOFFSETTO:-0600
RDATE:20231105T020000
END:STANDARD
BEGIN:DAYLIGHT
TZNAME:CDT
DTSTART:20230312T020000
TZOFFSETFROM:-0600
TZOFFSETTO:-0500
RDATE:20240310T020000
END:DAYLIGHT
END:VTIMEZONE
BEGIN:VEVENT
UID:14af7f8f-f6d0-495f-8ac3-7fa432ade1e8
DTSTAMP:20260424T045503Z
DESCRIPTION:
DTSTART;TZID=America/Chicago:20230325T130000
DTEND;TZID=America/Chicago:20230325T160000
LOCATION:Christ Child Center
SUMMARY:Ses Amies Auxiliary - Layette Assembly
END:VEVENT
END:VCALENDAR
