BEGIN:VCALENDAR
VERSION:2.0
PRODID:-//www.christchildomaha.com//NONSGML kigkonsult.se iCalcreator 2.30.
 10//
CALSCALE:GREGORIAN
METHOD:PUBLISH
UID:34026552-f8d2-496d-bbc9-d17b37fe7bfb
X-WR-CALDESC:
X-WR-RELCALID:6d54f7b036983408c721aa2095ba0192
X-WR-TIMEZONE:America/Chicago
BEGIN:VTIMEZONE
TZID:America/Chicago
BEGIN:STANDARD
TZNAME:CST
DTSTART:20221106T020000
TZOFFSETFROM:-0500
TZOFFSETTO:-0600
RDATE:20231105T020000
END:STANDARD
BEGIN:DAYLIGHT
TZNAME:CDT
DTSTART:20230312T020000
TZOFFSETFROM:-0600
TZOFFSETTO:-0500
RDATE:20240310T020000
END:DAYLIGHT
END:VTIMEZONE
BEGIN:VEVENT
UID:195788de-df40-421e-8df5-13a2f0928c45
DTSTAMP:20260424T020928Z
DESCRIPTION:
DTSTART;TZID=America/Chicago:20230412T180000
DTEND;TZID=America/Chicago:20230412T210000
LOCATION:Topgolf Omaha\, 908 N 102nd Street\, Omaha\, NE 68114 US
SUMMARY:TopGolf Fundraising Event for Christ Child Omaha
END:VEVENT
END:VCALENDAR
