BEGIN:VCALENDAR
VERSION:2.0
PRODID:-//www.christchildomaha.com//NONSGML kigkonsult.se iCalcreator 2.30.
 10//
CALSCALE:GREGORIAN
METHOD:PUBLISH
UID:9380211e-8e34-4a0c-a10a-d9d74919e0f1
X-WR-CALDESC:
X-WR-RELCALID:83fe5bafceec37783fbaa9e7b1a64552
X-WR-TIMEZONE:America/Chicago
BEGIN:VTIMEZONE
TZID:America/Chicago
BEGIN:STANDARD
TZNAME:CST
DTSTART:20221106T020000
TZOFFSETFROM:-0500
TZOFFSETTO:-0600
RDATE:20231105T020000
END:STANDARD
BEGIN:DAYLIGHT
TZNAME:CDT
DTSTART:20230312T020000
TZOFFSETFROM:-0600
TZOFFSETTO:-0500
RDATE:20240310T020000
END:DAYLIGHT
END:VTIMEZONE
BEGIN:VEVENT
UID:43717f7e-7874-451a-88aa-a494bba78957
DTSTAMP:20260424T021216Z
DESCRIPTION:
DTSTART;TZID=America/Chicago:20230418T160000
DTEND;TZID=America/Chicago:20230418T180000
LOCATION:Christ Child Center/Pasta Amore
SUMMARY:L'Esprit Auxiliary Layette Assembly & Dinner
END:VEVENT
END:VCALENDAR
