BEGIN:VCALENDAR
VERSION:2.0
PRODID:-//www.christchildomaha.com//NONSGML kigkonsult.se iCalcreator 2.30.
 10//
CALSCALE:GREGORIAN
METHOD:PUBLISH
UID:ec7522c1-bd9b-4a51-828f-b77b1b540ef3
X-WR-CALDESC:
X-WR-RELCALID:e774fa335b5c27ea5f700a74833b3464
X-WR-TIMEZONE:America/Chicago
BEGIN:VTIMEZONE
TZID:America/Chicago
BEGIN:STANDARD
TZNAME:CST
DTSTART:20221106T020000
TZOFFSETFROM:-0500
TZOFFSETTO:-0600
RDATE:20231105T020000
END:STANDARD
BEGIN:DAYLIGHT
TZNAME:CDT
DTSTART:20230312T020000
TZOFFSETFROM:-0600
TZOFFSETTO:-0500
RDATE:20240310T020000
END:DAYLIGHT
END:VTIMEZONE
BEGIN:VEVENT
UID:89c0377a-2f43-4426-82de-18fe6cc85d0a
DTSTAMP:20260424T021315Z
DESCRIPTION:
DTSTART;TZID=America/Chicago:20230418T113000
DTEND;TZID=America/Chicago:20230418T133000
LOCATION:Christ Child Center
SUMMARY:Social Media & PR Training
END:VEVENT
END:VCALENDAR
