BEGIN:VCALENDAR
VERSION:2.0
PRODID:-//www.christchildomaha.com//NONSGML kigkonsult.se iCalcreator 2.30.
 10//
CALSCALE:GREGORIAN
METHOD:PUBLISH
UID:e6783bf0-c76c-41d3-867a-5a8b234a6d33
X-WR-CALDESC:
X-WR-RELCALID:2104f0745e20401535fe59bfd1fb30c1
X-WR-TIMEZONE:America/Chicago
BEGIN:VTIMEZONE
TZID:America/Chicago
BEGIN:STANDARD
TZNAME:CST
DTSTART:20221106T020000
TZOFFSETFROM:-0500
TZOFFSETTO:-0600
RDATE:20231105T020000
RDATE:20241103T020000
END:STANDARD
BEGIN:DAYLIGHT
TZNAME:CDT
DTSTART:20230312T020000
TZOFFSETFROM:-0600
TZOFFSETTO:-0500
RDATE:20240310T020000
END:DAYLIGHT
END:VTIMEZONE
BEGIN:VEVENT
UID:47b58929-8752-4da5-80a0-ae1da4455d5f
DTSTAMP:20260424T002849Z
DESCRIPTION:
DTSTART;TZID=America/Chicago:20230511T170000
DTEND;TZID=America/Chicago:20230511T190000
LOCATION:Heart Ministry Center
SUMMARY:Car Seat Giveaway
END:VEVENT
END:VCALENDAR
