BEGIN:VCALENDAR
VERSION:2.0
PRODID:-//www.christchildomaha.com//NONSGML kigkonsult.se iCalcreator 2.30.
 10//
CALSCALE:GREGORIAN
METHOD:PUBLISH
UID:eae72da6-0d0c-4add-a023-e1eecacadc9f
X-WR-CALDESC:
X-WR-RELCALID:45647adee9a7fc4241bf839069e49ac2
X-WR-TIMEZONE:America/Chicago
BEGIN:VTIMEZONE
TZID:America/Chicago
BEGIN:STANDARD
TZNAME:CST
DTSTART:20221106T020000
TZOFFSETFROM:-0500
TZOFFSETTO:-0600
RDATE:20231105T020000
RDATE:20241103T020000
END:STANDARD
BEGIN:DAYLIGHT
TZNAME:CDT
DTSTART:20230312T020000
TZOFFSETFROM:-0600
TZOFFSETTO:-0500
RDATE:20240310T020000
END:DAYLIGHT
END:VTIMEZONE
BEGIN:VEVENT
UID:303ac5fc-8926-4042-8d45-25030f7c26e4
DTSTAMP:20260424T002707Z
DESCRIPTION:
DTSTART;TZID=America/Chicago:20230516T103000
DTEND;TZID=America/Chicago:20230516T123000
LOCATION:
SUMMARY:Soiree Planning Meeting
END:VEVENT
END:VCALENDAR
