BEGIN:VCALENDAR
VERSION:2.0
PRODID:-//www.christchildomaha.com//NONSGML kigkonsult.se iCalcreator 2.30.
 10//
CALSCALE:GREGORIAN
METHOD:PUBLISH
UID:e55f2552-56fd-4b31-a2dd-7d67a58d4a28
X-WR-CALDESC:
X-WR-RELCALID:4b3eb7f955eb1bf121a5b52c5d7b28e7
X-WR-TIMEZONE:America/Chicago
BEGIN:VTIMEZONE
TZID:America/Chicago
BEGIN:STANDARD
TZNAME:CST
DTSTART:20221106T020000
TZOFFSETFROM:-0500
TZOFFSETTO:-0600
RDATE:20231105T020000
RDATE:20241103T020000
END:STANDARD
BEGIN:DAYLIGHT
TZNAME:CDT
DTSTART:20230312T020000
TZOFFSETFROM:-0600
TZOFFSETTO:-0500
RDATE:20240310T020000
END:DAYLIGHT
END:VTIMEZONE
BEGIN:VEVENT
UID:95da4359-af5c-4058-b5a8-8a45e06a8cfe
DTSTAMP:20260424T002946Z
DESCRIPTION:
DTSTART;TZID=America/Chicago:20230518T110000
DTEND;TZID=America/Chicago:20230518T133000
LOCATION:Christ Child Center
SUMMARY:Board of Directors Meeting
END:VEVENT
END:VCALENDAR
