BEGIN:VCALENDAR
VERSION:2.0
PRODID:-//www.christchildomaha.com//NONSGML kigkonsult.se iCalcreator 2.30.
 10//
CALSCALE:GREGORIAN
METHOD:PUBLISH
UID:8c6d8cb6-db53-47c0-9a72-fa8093e7e12e
X-WR-CALDESC:
X-WR-RELCALID:194dc22c4d1b1ca99c0a4cc2629a01f5
X-WR-TIMEZONE:America/Chicago
BEGIN:VTIMEZONE
TZID:America/Chicago
BEGIN:STANDARD
TZNAME:CST
DTSTART:20221106T020000
TZOFFSETFROM:-0500
TZOFFSETTO:-0600
RDATE:20231105T020000
RDATE:20241103T020000
END:STANDARD
BEGIN:DAYLIGHT
TZNAME:CDT
DTSTART:20230312T020000
TZOFFSETFROM:-0600
TZOFFSETTO:-0500
RDATE:20240310T020000
END:DAYLIGHT
END:VTIMEZONE
BEGIN:VEVENT
UID:25ec4684-b33f-4e15-a66c-0016ef7433eb
DTSTAMP:20260423T224115Z
DESCRIPTION:
DTSTART;TZID=America/Chicago:20230601T160000
DTEND;TZID=America/Chicago:20230601T170000
LOCATION:5211 S 31st Street\, Omaha\, NE 68107 US
SUMMARY:Car Seat Class & Giveaway @ Catholic Charities
END:VEVENT
END:VCALENDAR
