BEGIN:VCALENDAR
VERSION:2.0
PRODID:-//www.christchildomaha.com//NONSGML kigkonsult.se iCalcreator 2.30.
 10//
CALSCALE:GREGORIAN
METHOD:PUBLISH
UID:39d04980-4f9c-4dad-a785-a48e4a464ca1
X-WR-CALDESC:
X-WR-RELCALID:003cf54a59859ff803081e364fb03324
X-WR-TIMEZONE:America/Chicago
BEGIN:VTIMEZONE
TZID:America/Chicago
BEGIN:STANDARD
TZNAME:CST
DTSTART:20221106T020000
TZOFFSETFROM:-0500
TZOFFSETTO:-0600
RDATE:20231105T020000
RDATE:20241103T020000
END:STANDARD
BEGIN:DAYLIGHT
TZNAME:CDT
DTSTART:20230312T020000
TZOFFSETFROM:-0600
TZOFFSETTO:-0500
RDATE:20240310T020000
END:DAYLIGHT
END:VTIMEZONE
BEGIN:VEVENT
UID:7a7b9c5e-4176-433e-89de-04ca0c834ad4
DTSTAMP:20260423T224535Z
DESCRIPTION:
DTSTART;TZID=America/Chicago:20230613T170000
DTEND;TZID=America/Chicago:20230613T190000
LOCATION:10730 Pacific Street\, Suite 150\, Omaha\, NE 68144 US
SUMMARY:L'Esprit Member Gathering @ Blue Sky Patio
END:VEVENT
END:VCALENDAR
