BEGIN:VCALENDAR
VERSION:2.0
PRODID:-//www.christchildomaha.com//NONSGML kigkonsult.se iCalcreator 2.30.
 10//
CALSCALE:GREGORIAN
METHOD:PUBLISH
UID:03b3827e-bed1-4aa9-af5d-f5ea8b8ed3fd
X-WR-CALDESC:
X-WR-RELCALID:65925f64bb1662a9602ff72c446e7865
X-WR-TIMEZONE:America/Chicago
BEGIN:VTIMEZONE
TZID:America/Chicago
BEGIN:STANDARD
TZNAME:CST
DTSTART:20221106T020000
TZOFFSETFROM:-0500
TZOFFSETTO:-0600
RDATE:20231105T020000
RDATE:20241103T020000
END:STANDARD
BEGIN:DAYLIGHT
TZNAME:CDT
DTSTART:20230312T020000
TZOFFSETFROM:-0600
TZOFFSETTO:-0500
RDATE:20240310T020000
END:DAYLIGHT
END:VTIMEZONE
BEGIN:VEVENT
UID:8c5131d9-ae70-4ea4-b69d-6cd780dd17bb
DTSTAMP:20260423T203826Z
DESCRIPTION:
DTSTART;TZID=America/Chicago:20230711T180000
DTEND;TZID=America/Chicago:20230711T210000
LOCATION:9500 West Dodge Rd\, Omaha\, NE 68114 US
SUMMARY:Christ Child C'est L'Amour Casino Night
END:VEVENT
END:VCALENDAR
