BEGIN:VCALENDAR
VERSION:2.0
PRODID:-//www.christchildomaha.com//NONSGML kigkonsult.se iCalcreator 2.30.
 10//
CALSCALE:GREGORIAN
METHOD:PUBLISH
UID:1cb17ff7-fc82-4c5b-83e0-e04313b92ede
X-WR-CALDESC:
X-WR-RELCALID:6978511146c72e3aec150c04f914b44b
X-WR-TIMEZONE:America/Chicago
BEGIN:VTIMEZONE
TZID:America/Chicago
BEGIN:STANDARD
TZNAME:CST
DTSTART:20221106T020000
TZOFFSETFROM:-0500
TZOFFSETTO:-0600
RDATE:20231105T020000
RDATE:20241103T020000
END:STANDARD
BEGIN:DAYLIGHT
TZNAME:CDT
DTSTART:20230312T020000
TZOFFSETFROM:-0600
TZOFFSETTO:-0500
RDATE:20240310T020000
END:DAYLIGHT
END:VTIMEZONE
BEGIN:VEVENT
UID:9a3199c6-f212-44f0-8b6e-1041c2f5cc53
DTSTAMP:20260423T204016Z
DESCRIPTION:
DTSTART;TZID=America/Chicago:20230712T093000
DTEND;TZID=America/Chicago:20230712T113000
LOCATION:Eileen Ryan Christ Child Center
SUMMARY:Ses Enfants Aux - Unpacking at the Center
END:VEVENT
END:VCALENDAR
