BEGIN:VCALENDAR
VERSION:2.0
PRODID:-//www.christchildomaha.com//NONSGML kigkonsult.se iCalcreator 2.30.
 10//
CALSCALE:GREGORIAN
METHOD:PUBLISH
UID:dadfd178-1bbd-432e-b257-f45ea2069e7d
X-WR-CALDESC:
X-WR-RELCALID:a205e446da3a433258d07271501dcf79
X-WR-TIMEZONE:America/Chicago
BEGIN:VTIMEZONE
TZID:America/Chicago
BEGIN:STANDARD
TZNAME:CST
DTSTART:20221106T020000
TZOFFSETFROM:-0500
TZOFFSETTO:-0600
RDATE:20231105T020000
RDATE:20241103T020000
END:STANDARD
BEGIN:DAYLIGHT
TZNAME:CDT
DTSTART:20230312T020000
TZOFFSETFROM:-0600
TZOFFSETTO:-0500
RDATE:20240310T020000
END:DAYLIGHT
END:VTIMEZONE
BEGIN:VEVENT
UID:2cfc15a9-060d-4cc2-95aa-ac5de4d9676b
DTSTAMP:20260423T202244Z
DESCRIPTION:
DTSTART;TZID=America/Chicago:20230712T163000
DTEND;TZID=America/Chicago:20230712T183000
LOCATION:200 S 31st Ave #4107\, Omaha\, NE 68132 US
SUMMARY:Sewing Night at The Empire Room
END:VEVENT
END:VCALENDAR
