BEGIN:VCALENDAR
VERSION:2.0
PRODID:-//www.christchildomaha.com//NONSGML kigkonsult.se iCalcreator 2.30.
 10//
CALSCALE:GREGORIAN
METHOD:PUBLISH
UID:c39d2eb8-bac9-4743-8b31-1501c5f4710a
X-WR-CALDESC:
X-WR-RELCALID:ebec5d9b25de95d143f4ef8bafec25d1
X-WR-TIMEZONE:America/Chicago
BEGIN:VTIMEZONE
TZID:America/Chicago
BEGIN:STANDARD
TZNAME:CST
DTSTART:20221106T020000
TZOFFSETFROM:-0500
TZOFFSETTO:-0600
RDATE:20231105T020000
RDATE:20241103T020000
END:STANDARD
BEGIN:DAYLIGHT
TZNAME:CDT
DTSTART:20230312T020000
TZOFFSETFROM:-0600
TZOFFSETTO:-0500
RDATE:20240310T020000
END:DAYLIGHT
END:VTIMEZONE
BEGIN:VEVENT
UID:442da341-1c77-4d09-99b6-67c1d062a655
DTSTAMP:20260423T202141Z
DESCRIPTION:
DTSTART;TZID=America/Chicago:20230713T150000
DTEND;TZID=America/Chicago:20230713T170000
LOCATION:Eileen Ryan Christ Child Center
SUMMARY:All Member Unpacking at Center
END:VEVENT
END:VCALENDAR
