BEGIN:VCALENDAR
VERSION:2.0
PRODID:-//www.christchildomaha.com//NONSGML kigkonsult.se iCalcreator 2.30.
 10//
CALSCALE:GREGORIAN
METHOD:PUBLISH
UID:3f316d1a-0294-4b7d-97bb-581db174114b
X-WR-CALDESC:
X-WR-RELCALID:d1010870ffdaf138421f70c1b2e5a2f6
X-WR-TIMEZONE:America/Chicago
BEGIN:VTIMEZONE
TZID:America/Chicago
BEGIN:STANDARD
TZNAME:CST
DTSTART:20221106T020000
TZOFFSETFROM:-0500
TZOFFSETTO:-0600
RDATE:20231105T020000
RDATE:20241103T020000
END:STANDARD
BEGIN:DAYLIGHT
TZNAME:CDT
DTSTART:20230312T020000
TZOFFSETFROM:-0600
TZOFFSETTO:-0500
RDATE:20240310T020000
END:DAYLIGHT
END:VTIMEZONE
BEGIN:VEVENT
UID:d7e96740-90e8-49b8-9eae-ccf9f40ecdbe
DTSTAMP:20260423T202141Z
DESCRIPTION:
DTSTART;TZID=America/Chicago:20230726T180000
DTEND;TZID=America/Chicago:20230726T200000
LOCATION:2920 S. 110th Ct\, OMAHA\, NE 68144 US
SUMMARY:C'Est L'Amour Layette Assembly
END:VEVENT
END:VCALENDAR
