BEGIN:VCALENDAR
VERSION:2.0
PRODID:-//www.christchildomaha.com//NONSGML kigkonsult.se iCalcreator 2.30.
 10//
CALSCALE:GREGORIAN
METHOD:PUBLISH
UID:a28a0f6a-0b39-4229-9af8-ecbc382d52cd
X-WR-CALDESC:
X-WR-RELCALID:a2f69ba0ef3abcb8bc366eebcf231c5c
X-WR-TIMEZONE:America/Chicago
BEGIN:VTIMEZONE
TZID:America/Chicago
BEGIN:STANDARD
TZNAME:CST
DTSTART:20221106T020000
TZOFFSETFROM:-0500
TZOFFSETTO:-0600
RDATE:20231105T020000
RDATE:20241103T020000
END:STANDARD
BEGIN:DAYLIGHT
TZNAME:CDT
DTSTART:20230312T020000
TZOFFSETFROM:-0600
TZOFFSETTO:-0500
RDATE:20240310T020000
END:DAYLIGHT
END:VTIMEZONE
BEGIN:VEVENT
UID:8c8327ad-78ee-45cb-aef6-84a2bbb1dd59
DTSTAMP:20260423T184524Z
DESCRIPTION:
DTSTART;TZID=America/Chicago:20230817T110000
DTEND;TZID=America/Chicago:20230817T133000
LOCATION:Christ Child Center
SUMMARY:Board of Directors Meeting
END:VEVENT
END:VCALENDAR
