BEGIN:VCALENDAR
VERSION:2.0
PRODID:-//www.christchildomaha.com//NONSGML kigkonsult.se iCalcreator 2.30.
 10//
CALSCALE:GREGORIAN
METHOD:PUBLISH
UID:94fda8f5-d261-4552-85eb-31ea086c6e04
X-WR-CALDESC:
X-WR-RELCALID:d5afc949a3c4d874ca5fe13aa17c6e09
X-WR-TIMEZONE:America/Chicago
BEGIN:VTIMEZONE
TZID:America/Chicago
BEGIN:STANDARD
TZNAME:CST
DTSTART:20221106T020000
TZOFFSETFROM:-0500
TZOFFSETTO:-0600
RDATE:20231105T020000
RDATE:20241103T020000
END:STANDARD
BEGIN:DAYLIGHT
TZNAME:CDT
DTSTART:20230312T020000
TZOFFSETFROM:-0600
TZOFFSETTO:-0500
RDATE:20240310T020000
END:DAYLIGHT
END:VTIMEZONE
BEGIN:VEVENT
UID:3943c4b7-c8fd-47e2-9c92-67b31ccc04d9
DTSTAMP:20260423T192317Z
DESCRIPTION:
DTSTART;TZID=America/Chicago:20230822T150000
DTEND;TZID=America/Chicago:20230822T170000
LOCATION:443 S 88th St\, Omaha\, NE 68144 US
SUMMARY:L'Esprit Auxiliary - Soiree Invitation Stuffing
END:VEVENT
END:VCALENDAR
