BEGIN:VCALENDAR
VERSION:2.0
PRODID:-//www.christchildomaha.com//NONSGML kigkonsult.se iCalcreator 2.30.
 10//
CALSCALE:GREGORIAN
METHOD:PUBLISH
UID:f7630a67-c726-45c6-83f4-91f62d4283f6
X-WR-CALDESC:
X-WR-RELCALID:b3feb58d8c243510f3b934921da31827
X-WR-TIMEZONE:America/Chicago
BEGIN:VTIMEZONE
TZID:America/Chicago
BEGIN:STANDARD
TZNAME:CST
DTSTART:20221106T020000
TZOFFSETFROM:-0500
TZOFFSETTO:-0600
RDATE:20231105T020000
RDATE:20241103T020000
END:STANDARD
BEGIN:DAYLIGHT
TZNAME:CDT
DTSTART:20230312T020000
TZOFFSETFROM:-0600
TZOFFSETTO:-0500
RDATE:20240310T020000
RDATE:20250309T020000
END:DAYLIGHT
END:VTIMEZONE
BEGIN:VEVENT
UID:efa5a28c-bd87-495f-95cc-d34fb0899683
DTSTAMP:20260423T164509Z
DESCRIPTION:
DTSTART;TZID=America/Chicago:20230911T100000
DTEND;TZID=America/Chicago:20230911T140000
LOCATION:3601 Burt Street\, Omaha\, NE 68131 US
SUMMARY:Layette Assembly at Duschesne
END:VEVENT
END:VCALENDAR
