BEGIN:VCALENDAR
VERSION:2.0
PRODID:-//www.christchildomaha.com//NONSGML kigkonsult.se iCalcreator 2.30.
 10//
CALSCALE:GREGORIAN
METHOD:PUBLISH
UID:f695c2bf-01f1-4329-b2c0-b8250ee17ce1
X-WR-CALDESC:
X-WR-RELCALID:32592e57218940c2d2fa58a2371923a2
X-WR-TIMEZONE:America/Chicago
BEGIN:VTIMEZONE
TZID:America/Chicago
BEGIN:STANDARD
TZNAME:CST
DTSTART:20221106T020000
TZOFFSETFROM:-0500
TZOFFSETTO:-0600
RDATE:20231105T020000
RDATE:20241103T020000
END:STANDARD
BEGIN:DAYLIGHT
TZNAME:CDT
DTSTART:20230312T020000
TZOFFSETFROM:-0600
TZOFFSETTO:-0500
RDATE:20240310T020000
RDATE:20250309T020000
END:DAYLIGHT
END:VTIMEZONE
BEGIN:VEVENT
UID:9b410617-c335-4106-8048-b18f7cb6307c
DTSTAMP:20260423T165147Z
DESCRIPTION:
DTSTART;TZID=America/Chicago:20230921T110000
DTEND;TZID=America/Chicago:20230921T133000
LOCATION:Christ Child Center
SUMMARY:Board of Directors Meeting
END:VEVENT
END:VCALENDAR
