BEGIN:VCALENDAR
VERSION:2.0
PRODID:-//www.christchildomaha.com//NONSGML kigkonsult.se iCalcreator 2.30.
 10//
CALSCALE:GREGORIAN
METHOD:PUBLISH
UID:6d659239-756d-4506-beef-44f798334dcf
X-WR-CALDESC:
X-WR-RELCALID:03fb3036181eba0dcdac16cd6a756b83
X-WR-TIMEZONE:America/Chicago
BEGIN:VTIMEZONE
TZID:America/Chicago
BEGIN:STANDARD
TZNAME:CST
DTSTART:20221106T020000
TZOFFSETFROM:-0500
TZOFFSETTO:-0600
RDATE:20231105T020000
RDATE:20241103T020000
END:STANDARD
BEGIN:DAYLIGHT
TZNAME:CDT
DTSTART:20230312T020000
TZOFFSETFROM:-0600
TZOFFSETTO:-0500
RDATE:20240310T020000
RDATE:20250309T020000
END:DAYLIGHT
END:VTIMEZONE
BEGIN:VEVENT
UID:c60fc014-745e-49fe-89d9-9c52bfdb3e6c
DTSTAMP:20260423T151601Z
DESCRIPTION:
DTSTART;TZID=America/Chicago:20231019T110000
DTEND;TZID=America/Chicago:20231019T133000
LOCATION:Christ Child Center
SUMMARY:Board of Directors Meeting
END:VEVENT
END:VCALENDAR
