BEGIN:VCALENDAR
VERSION:2.0
PRODID:-//www.christchildomaha.com//NONSGML kigkonsult.se iCalcreator 2.30.
 10//
CALSCALE:GREGORIAN
METHOD:PUBLISH
UID:cd1dbda1-196d-4dd0-87b7-96251505940e
X-WR-CALDESC:
X-WR-RELCALID:00fc5702bbbbc43c5974d7b3f4febca8
X-WR-TIMEZONE:America/Chicago
BEGIN:VTIMEZONE
TZID:America/Chicago
BEGIN:STANDARD
TZNAME:CST
DTSTART:20231105T020000
TZOFFSETFROM:-0500
TZOFFSETTO:-0600
RDATE:20241103T020000
END:STANDARD
BEGIN:DAYLIGHT
TZNAME:CDT
DTSTART:20230312T020000
TZOFFSETFROM:-0600
TZOFFSETTO:-0500
RDATE:20240310T020000
RDATE:20250309T020000
END:DAYLIGHT
END:VTIMEZONE
BEGIN:VEVENT
UID:56327807-299b-45a1-b4c2-d924cccd4360
DTSTAMP:20260423T131957Z
DESCRIPTION:
DTSTART;TZID=America/Chicago:20231120T173000
DTEND;TZID=America/Chicago:20231120T193000
LOCATION:Eileen Ryan Christ Child Center
SUMMARY:CTK/Circle 4 - Unpacking at the Christ Child Center
END:VEVENT
END:VCALENDAR
