BEGIN:VCALENDAR
VERSION:2.0
PRODID:-//www.christchildomaha.com//NONSGML kigkonsult.se iCalcreator 2.30.
 10//
CALSCALE:GREGORIAN
METHOD:PUBLISH
UID:a9ff9626-084e-4762-a7a8-c8ed43f50fc8
X-WR-CALDESC:
X-WR-RELCALID:4717c21a4d6c6aac23c7d496d29bb626
X-WR-TIMEZONE:America/Chicago
BEGIN:VTIMEZONE
TZID:America/Chicago
BEGIN:STANDARD
TZNAME:CST
DTSTART:20231105T020000
TZOFFSETFROM:-0500
TZOFFSETTO:-0600
RDATE:20241103T020000
END:STANDARD
BEGIN:DAYLIGHT
TZNAME:CDT
DTSTART:20230312T020000
TZOFFSETFROM:-0600
TZOFFSETTO:-0500
RDATE:20240310T020000
RDATE:20250309T020000
END:DAYLIGHT
END:VTIMEZONE
BEGIN:VEVENT
UID:2383231b-2077-4b08-9451-ae74d34e5b74
DTSTAMP:20260423T113523Z
DESCRIPTION:
DTSTART;TZID=America/Chicago:20231202T080000
DTEND;TZID=America/Chicago:20231202T130000
LOCATION:Eileen Ryan Christ Child Center
SUMMARY:Fabric cutting for handmade blankets
END:VEVENT
END:VCALENDAR
