BEGIN:VCALENDAR
VERSION:2.0
PRODID:-//www.christchildomaha.com//NONSGML kigkonsult.se iCalcreator 2.30.
 10//
CALSCALE:GREGORIAN
METHOD:PUBLISH
UID:af3ed6d1-a0b1-486e-b3db-26714b2b9c77
X-WR-CALDESC:
X-WR-RELCALID:30febe02b9a6152db230b7c6be0dbc10
X-WR-TIMEZONE:America/Chicago
BEGIN:VTIMEZONE
TZID:America/Chicago
BEGIN:STANDARD
TZNAME:CST
DTSTART:20231105T020000
TZOFFSETFROM:-0500
TZOFFSETTO:-0600
RDATE:20241103T020000
END:STANDARD
BEGIN:DAYLIGHT
TZNAME:CDT
DTSTART:20230312T020000
TZOFFSETFROM:-0600
TZOFFSETTO:-0500
RDATE:20240310T020000
RDATE:20250309T020000
END:DAYLIGHT
END:VTIMEZONE
BEGIN:VEVENT
UID:cc0e57e3-df96-4773-a38b-57f46571363f
DTSTAMP:20260423T105705Z
DESCRIPTION:
DTSTART;TZID=America/Chicago:20231203T130000
DTEND;TZID=America/Chicago:20231203T150000
LOCATION:Eileen Ryan Christ Child Center
SUMMARY:Ses Amies Aux. - Gathering & Layette assembly
END:VEVENT
END:VCALENDAR
