BEGIN:VCALENDAR
VERSION:2.0
PRODID:-//www.christchildomaha.com//NONSGML kigkonsult.se iCalcreator 2.30.
 10//
CALSCALE:GREGORIAN
METHOD:PUBLISH
UID:6c8cf574-dba0-45d6-bbc7-d2f8b317631f
X-WR-CALDESC:
X-WR-RELCALID:eb3fa93003a93ff9caede24b9886f617
X-WR-TIMEZONE:America/Chicago
BEGIN:VTIMEZONE
TZID:America/Chicago
BEGIN:STANDARD
TZNAME:CST
DTSTART:20231105T020000
TZOFFSETFROM:-0500
TZOFFSETTO:-0600
RDATE:20241103T020000
END:STANDARD
BEGIN:DAYLIGHT
TZNAME:CDT
DTSTART:20230312T020000
TZOFFSETFROM:-0600
TZOFFSETTO:-0500
RDATE:20240310T020000
RDATE:20250309T020000
END:DAYLIGHT
END:VTIMEZONE
BEGIN:VEVENT
UID:fda012a8-2e33-4f29-a389-07aad19329b8
DTSTAMP:20260423T112441Z
DESCRIPTION:
DTSTART;TZID=America/Chicago:20231207T160000
DTEND;TZID=America/Chicago:20231207T173000
LOCATION:9223 Bedford Ave\, Omaha\, NE 68134 US
SUMMARY:Car Seat Event at EPS
END:VEVENT
END:VCALENDAR
