BEGIN:VCALENDAR
VERSION:2.0
PRODID:-//www.christchildomaha.com//NONSGML kigkonsult.se iCalcreator 2.30.
 10//
CALSCALE:GREGORIAN
METHOD:PUBLISH
UID:b87714f0-7937-4023-8ccf-46c5c76e793c
X-WR-CALDESC:
X-WR-RELCALID:b27dfe0b630f5e05c6770c8a8c8501b0
X-WR-TIMEZONE:America/Chicago
BEGIN:VTIMEZONE
TZID:America/Chicago
BEGIN:STANDARD
TZNAME:CST
DTSTART:20231105T020000
TZOFFSETFROM:-0500
TZOFFSETTO:-0600
RDATE:20241103T020000
END:STANDARD
BEGIN:DAYLIGHT
TZNAME:CDT
DTSTART:20230312T020000
TZOFFSETFROM:-0600
TZOFFSETTO:-0500
RDATE:20240310T020000
RDATE:20250309T020000
END:DAYLIGHT
END:VTIMEZONE
BEGIN:VEVENT
UID:5b69f088-08ad-48aa-949d-a0652107b15e
DTSTAMP:20260423T113600Z
DESCRIPTION:
DTSTART;TZID=America/Chicago:20231210T130000
DTEND;TZID=America/Chicago:20231210T150000
LOCATION:Eileen Ryan Christ Child Center
SUMMARY:Les Anges Aux. - Gathering and Layette assembly
END:VEVENT
END:VCALENDAR
