BEGIN:VCALENDAR
VERSION:2.0
PRODID:-//www.christchildomaha.com//NONSGML kigkonsult.se iCalcreator 2.30.
 10//
CALSCALE:GREGORIAN
METHOD:PUBLISH
UID:bb3ffc75-3591-4f11-bac6-bacfd5906abf
X-WR-CALDESC:
X-WR-RELCALID:b871a01d6d1d18dec16b9c4a577eb0fc
X-WR-TIMEZONE:America/Chicago
BEGIN:VTIMEZONE
TZID:America/Chicago
BEGIN:STANDARD
TZNAME:CST
DTSTART:20231105T020000
TZOFFSETFROM:-0500
TZOFFSETTO:-0600
RDATE:20241103T020000
END:STANDARD
BEGIN:DAYLIGHT
TZNAME:CDT
DTSTART:20230312T020000
TZOFFSETFROM:-0600
TZOFFSETTO:-0500
RDATE:20240310T020000
RDATE:20250309T020000
END:DAYLIGHT
END:VTIMEZONE
BEGIN:VEVENT
UID:a9a89747-b606-4aed-b999-238a7df77704
DTSTAMP:20260423T090916Z
DESCRIPTION:
DTSTART;TZID=America/Chicago:20240104T170000
DTEND;TZID=America/Chicago:20240104T203000
LOCATION:Christ Child Center
SUMMARY:Board Planning Session
END:VEVENT
END:VCALENDAR
