BEGIN:VCALENDAR
VERSION:2.0
PRODID:-//www.christchildomaha.com//NONSGML kigkonsult.se iCalcreator 2.30.
 10//
CALSCALE:GREGORIAN
METHOD:PUBLISH
UID:7f88e630-3604-442a-b685-4f268ee547b9
X-WR-CALDESC:
X-WR-RELCALID:21caa3073b15fb59fff9a75287cb2d0d
X-WR-TIMEZONE:America/Chicago
BEGIN:VTIMEZONE
TZID:America/Chicago
BEGIN:STANDARD
TZNAME:CST
DTSTART:20231105T020000
TZOFFSETFROM:-0500
TZOFFSETTO:-0600
RDATE:20241103T020000
END:STANDARD
BEGIN:DAYLIGHT
TZNAME:CDT
DTSTART:20230312T020000
TZOFFSETFROM:-0600
TZOFFSETTO:-0500
RDATE:20240310T020000
RDATE:20250309T020000
END:DAYLIGHT
END:VTIMEZONE
BEGIN:VEVENT
UID:bbe158d3-509a-4727-a3df-c9ff77364938
DTSTAMP:20260423T095249Z
DESCRIPTION:
DTSTART;TZID=America/Chicago:20240110T093000
DTEND;TZID=America/Chicago:20240110T113000
LOCATION:Eileen Ryan Christ Child Center
SUMMARY:Ses Enfants - unpacking & bundling @ the Center
END:VEVENT
END:VCALENDAR
