BEGIN:VCALENDAR
VERSION:2.0
PRODID:-//www.christchildomaha.com//NONSGML kigkonsult.se iCalcreator 2.30.
 10//
CALSCALE:GREGORIAN
METHOD:PUBLISH
UID:0273658d-9e44-4fb0-be41-48bc09176824
X-WR-CALDESC:
X-WR-RELCALID:83336a80e4882acb115a3622d11cc64c
X-WR-TIMEZONE:America/Chicago
BEGIN:VTIMEZONE
TZID:America/Chicago
BEGIN:STANDARD
TZNAME:CST
DTSTART:20231105T020000
TZOFFSETFROM:-0500
TZOFFSETTO:-0600
RDATE:20241103T020000
END:STANDARD
BEGIN:DAYLIGHT
TZNAME:CDT
DTSTART:20230312T020000
TZOFFSETFROM:-0600
TZOFFSETTO:-0500
RDATE:20240310T020000
RDATE:20250309T020000
END:DAYLIGHT
END:VTIMEZONE
BEGIN:VEVENT
UID:40f13fa6-1dba-445a-a30c-59e2d25991b7
DTSTAMP:20260423T092717Z
DESCRIPTION:
DTSTART;TZID=America/Chicago:20240111T100000
DTEND;TZID=America/Chicago:20240111T130000
LOCATION:Eileen Ryan Christ Child Center
SUMMARY:Unpacking & Bundling at the Center
END:VEVENT
END:VCALENDAR
