BEGIN:VCALENDAR
VERSION:2.0
PRODID:-//www.christchildomaha.com//NONSGML kigkonsult.se iCalcreator 2.30.
 10//
CALSCALE:GREGORIAN
METHOD:PUBLISH
UID:38b211a2-b387-4919-994c-4f47f36f2ac7
X-WR-CALDESC:
X-WR-RELCALID:1cd31fb9f36465a781b7b844d9117d8d
X-WR-TIMEZONE:America/Chicago
BEGIN:VTIMEZONE
TZID:America/Chicago
BEGIN:STANDARD
TZNAME:CST
DTSTART:20231105T020000
TZOFFSETFROM:-0500
TZOFFSETTO:-0600
RDATE:20241103T020000
END:STANDARD
BEGIN:DAYLIGHT
TZNAME:CDT
DTSTART:20230312T020000
TZOFFSETFROM:-0600
TZOFFSETTO:-0500
RDATE:20240310T020000
RDATE:20250309T020000
END:DAYLIGHT
END:VTIMEZONE
BEGIN:VEVENT
UID:8a56534a-8acc-4a35-ae06-7319cb84f14d
DTSTAMP:20260423T093109Z
DESCRIPTION:
DTSTART;TZID=America/Chicago:20240117T170000
DTEND;TZID=America/Chicago:20240117T183000
LOCATION:Eileen Ryan Christ Child Center
SUMMARY:Layette Assembly - CTK 6th grade basketball team
END:VEVENT
END:VCALENDAR
