BEGIN:VCALENDAR
VERSION:2.0
PRODID:-//www.christchildomaha.com//NONSGML kigkonsult.se iCalcreator 2.30.
 10//
CALSCALE:GREGORIAN
METHOD:PUBLISH
UID:8a02f13d-45e2-4b73-a496-5aeac59c53e3
X-WR-CALDESC:
X-WR-RELCALID:3a62d9a3537dd0208acfa70174d7a6bc
X-WR-TIMEZONE:America/Chicago
BEGIN:VTIMEZONE
TZID:America/Chicago
BEGIN:STANDARD
TZNAME:CST
DTSTART:20231105T020000
TZOFFSETFROM:-0500
TZOFFSETTO:-0600
RDATE:20241103T020000
END:STANDARD
BEGIN:DAYLIGHT
TZNAME:CDT
DTSTART:20230312T020000
TZOFFSETFROM:-0600
TZOFFSETTO:-0500
RDATE:20240310T020000
RDATE:20250309T020000
END:DAYLIGHT
END:VTIMEZONE
BEGIN:VEVENT
UID:cce478f9-2bd1-4779-b754-31a2f6ee3884
DTSTAMP:20260423T094810Z
DESCRIPTION:
DTSTART;TZID=America/Chicago:20240125T190000
DTEND;TZID=America/Chicago:20240125T210000
LOCATION:Stokes - West
SUMMARY:Parents' Night Out hosted by Les Anges & Ses Amies Auxiliaries
END:VEVENT
END:VCALENDAR
