BEGIN:VCALENDAR
VERSION:2.0
PRODID:-//www.christchildomaha.com//NONSGML kigkonsult.se iCalcreator 2.30.
 10//
CALSCALE:GREGORIAN
METHOD:PUBLISH
UID:c325cf1f-b29f-49bf-9e63-772538500371
X-WR-CALDESC:
X-WR-RELCALID:27752cfb9baf74b9bf1e52a3455c2765
X-WR-TIMEZONE:America/Chicago
BEGIN:VTIMEZONE
TZID:America/Chicago
BEGIN:STANDARD
TZNAME:CST
DTSTART:20231105T020000
TZOFFSETFROM:-0500
TZOFFSETTO:-0600
RDATE:20241103T020000
END:STANDARD
BEGIN:DAYLIGHT
TZNAME:CDT
DTSTART:20230312T020000
TZOFFSETFROM:-0600
TZOFFSETTO:-0500
RDATE:20240310T020000
RDATE:20250309T020000
END:DAYLIGHT
END:VTIMEZONE
BEGIN:VEVENT
UID:08805e65-5c1f-4de0-9b56-6c6fee91ef6d
DTSTAMP:20260423T072541Z
DESCRIPTION:
DTSTART;TZID=America/Chicago:20240205T093000
DTEND;TZID=America/Chicago:20240205T103000
LOCATION:Eileen Ryan Christ Child Center
SUMMARY:Fundraising Committee Meeting
END:VEVENT
END:VCALENDAR
