BEGIN:VCALENDAR
VERSION:2.0
PRODID:-//www.christchildomaha.com//NONSGML kigkonsult.se iCalcreator 2.30.
 10//
CALSCALE:GREGORIAN
METHOD:PUBLISH
UID:5a75a90b-aa9b-4865-a0c6-81474a26f17d
X-WR-CALDESC:
X-WR-RELCALID:c0d9c19e45d70ed73b065b7fe5bedc4e
X-WR-TIMEZONE:America/Chicago
BEGIN:VTIMEZONE
TZID:America/Chicago
BEGIN:STANDARD
TZNAME:CST
DTSTART:20231105T020000
TZOFFSETFROM:-0500
TZOFFSETTO:-0600
RDATE:20241103T020000
END:STANDARD
BEGIN:DAYLIGHT
TZNAME:CDT
DTSTART:20230312T020000
TZOFFSETFROM:-0600
TZOFFSETTO:-0500
RDATE:20240310T020000
RDATE:20250309T020000
END:DAYLIGHT
END:VTIMEZONE
BEGIN:VEVENT
UID:ebcbeb84-8fbe-40f3-84cc-c1bb514cc57e
DTSTAMP:20260423T072808Z
DESCRIPTION:
DTSTART;TZID=America/Chicago:20240207T100000
DTEND;TZID=America/Chicago:20240207T120000
LOCATION:Eileen Ryan Christ Child Center
SUMMARY:Unpacking and Bundling at the Center
END:VEVENT
END:VCALENDAR
