BEGIN:VCALENDAR
VERSION:2.0
PRODID:-//www.christchildomaha.com//NONSGML kigkonsult.se iCalcreator 2.30.
 10//
CALSCALE:GREGORIAN
METHOD:PUBLISH
UID:38c3f5ac-c65d-44b5-9821-529562c3f2a2
X-WR-CALDESC:
X-WR-RELCALID:08933918856c6cb12b15b41a80c9c568
X-WR-TIMEZONE:America/Chicago
BEGIN:VTIMEZONE
TZID:America/Chicago
BEGIN:STANDARD
TZNAME:CST
DTSTART:20231105T020000
TZOFFSETFROM:-0500
TZOFFSETTO:-0600
RDATE:20241103T020000
END:STANDARD
BEGIN:DAYLIGHT
TZNAME:CDT
DTSTART:20230312T020000
TZOFFSETFROM:-0600
TZOFFSETTO:-0500
RDATE:20240310T020000
RDATE:20250309T020000
END:DAYLIGHT
END:VTIMEZONE
BEGIN:VEVENT
UID:1a2c5c7d-af65-4fa9-8b74-e9530b5b0b11
DTSTAMP:20260423T075827Z
DESCRIPTION:
DTSTART;TZID=America/Chicago:20240215T084500
DTEND;TZID=America/Chicago:20240215T093000
LOCATION:3131 S 156th St\, Omaha\, NE 68130 US
SUMMARY:Deliver assembly items to Skutt High School
END:VEVENT
END:VCALENDAR
