BEGIN:VCALENDAR
VERSION:2.0
PRODID:-//www.christchildomaha.com//NONSGML kigkonsult.se iCalcreator 2.30.
 10//
CALSCALE:GREGORIAN
METHOD:PUBLISH
UID:95c9e169-df7f-4b77-8678-bd98a973304b
X-WR-CALDESC:
X-WR-RELCALID:86a702678ee8e6db9a1b72e91d3899d9
X-WR-TIMEZONE:America/Chicago
BEGIN:VTIMEZONE
TZID:America/Chicago
BEGIN:STANDARD
TZNAME:CST
DTSTART:20231105T020000
TZOFFSETFROM:-0500
TZOFFSETTO:-0600
RDATE:20241103T020000
END:STANDARD
BEGIN:DAYLIGHT
TZNAME:CDT
DTSTART:20230312T020000
TZOFFSETFROM:-0600
TZOFFSETTO:-0500
RDATE:20240310T020000
RDATE:20250309T020000
END:DAYLIGHT
END:VTIMEZONE
BEGIN:VEVENT
UID:120056fb-71d2-4b6f-9638-a9dea2788a6d
DTSTAMP:20260423T073012Z
DESCRIPTION:
DTSTART;TZID=America/Chicago:20240216T100000
DTEND;TZID=America/Chicago:20240216T130000
LOCATION:Skutt High School
SUMMARY:Layette Assembly @ Skutt Catholic High School
END:VEVENT
END:VCALENDAR
