BEGIN:VCALENDAR
VERSION:2.0
PRODID:-//www.christchildomaha.com//NONSGML kigkonsult.se iCalcreator 2.30.
 10//
CALSCALE:GREGORIAN
METHOD:PUBLISH
UID:e66fd92e-5541-4b58-ab72-2d32d3d1a837
X-WR-CALDESC:
X-WR-RELCALID:efa19852cf23826bb10d584dbee63156
X-WR-TIMEZONE:America/Chicago
BEGIN:VTIMEZONE
TZID:America/Chicago
BEGIN:STANDARD
TZNAME:CST
DTSTART:20231105T020000
TZOFFSETFROM:-0500
TZOFFSETTO:-0600
RDATE:20241103T020000
END:STANDARD
BEGIN:DAYLIGHT
TZNAME:CDT
DTSTART:20240310T020000
TZOFFSETFROM:-0600
TZOFFSETTO:-0500
RDATE:20250309T020000
END:DAYLIGHT
END:VTIMEZONE
BEGIN:VEVENT
UID:c413a841-8d46-496f-9b1b-6cb92c3dac7a
DTSTAMP:20260423T054014Z
DESCRIPTION:
DTSTART;TZID=America/Chicago:20240320T130000
DTEND;TZID=America/Chicago:20240320T150000
LOCATION:Eileen Ryan Christ Child Center
SUMMARY:L'Esprit Kickoff Meeting
END:VEVENT
END:VCALENDAR
