BEGIN:VCALENDAR
VERSION:2.0
PRODID:-//www.christchildomaha.com//NONSGML kigkonsult.se iCalcreator 2.30.
 10//
CALSCALE:GREGORIAN
METHOD:PUBLISH
UID:87087e0c-3147-4bbe-a6ce-31981aa8befd
X-WR-CALDESC:
X-WR-RELCALID:4e8b3da666ac04c9157bc65fd4521b50
X-WR-TIMEZONE:America/Chicago
BEGIN:VTIMEZONE
TZID:America/Chicago
BEGIN:STANDARD
TZNAME:CST
DTSTART:20231105T020000
TZOFFSETFROM:-0500
TZOFFSETTO:-0600
RDATE:20241103T020000
END:STANDARD
BEGIN:DAYLIGHT
TZNAME:CDT
DTSTART:20240310T020000
TZOFFSETFROM:-0600
TZOFFSETTO:-0500
RDATE:20250309T020000
END:DAYLIGHT
END:VTIMEZONE
BEGIN:VEVENT
UID:65c77af9-e974-468c-9b08-e65dc687eab1
DTSTAMP:20260423T053450Z
DESCRIPTION:
DTSTART;TZID=America/Chicago:20240326T183000
DTEND;TZID=America/Chicago:20240326T210000
LOCATION:Eil
SUMMARY:Ses Amies Kickoff Meeting
END:VEVENT
END:VCALENDAR
